Package: SNPhood Version: 1.36.0 Command: F:\biocbuild\bbs-3.20-bioc\R\bin\R.exe CMD INSTALL SNPhood StartedAt: 2025-02-03 16:54:45 -0500 (Mon, 03 Feb 2025) EndedAt: 2025-02-03 16:56:05 -0500 (Mon, 03 Feb 2025) EllapsedTime: 79.9 seconds RetCode: 0 Status: OK