Package: SPEM Version: 1.46.0 Command: rm -rf SPEM.buildbin-libdir && mkdir SPEM.buildbin-libdir && /Users/biocbuild/BBS/utils/build-universal.sh SPEM_1.46.0.tar.gz /Library/Frameworks/R.framework/Resources/bin/R SPEM.buildbin-libdir StartedAt: 2025-02-05 17:57:24 -0500 (Wed, 05 Feb 2025) EndedAt: 2025-02-05 17:57:30 -0500 (Wed, 05 Feb 2025) EllapsedTime: 5.8 seconds RetCode: 0 Status: OK PackageFile: SPEM_1.46.0.tgz PackageFileSize: 498.6 KiB