Package: SPEM Version: 1.46.0 Command: /Library/Frameworks/R.framework/Resources/bin/R CMD build --keep-empty-dirs --no-resave-data SPEM StartedAt: 2025-02-04 08:55:34 -0500 (Tue, 04 Feb 2025) EndedAt: 2025-02-04 08:55:49 -0500 (Tue, 04 Feb 2025) EllapsedTime: 15.5 seconds RetCode: 0 Status: OK PackageFile: SPEM_1.46.0.tar.gz PackageFileSize: 601 KiB