Package: SPEM Version: 1.46.0 Command: /Library/Frameworks/R.framework/Resources/bin/R CMD INSTALL SPEM StartedAt: 2025-02-03 15:20:04 -0500 (Mon, 03 Feb 2025) EndedAt: 2025-02-03 15:20:09 -0500 (Mon, 03 Feb 2025) EllapsedTime: 4.6 seconds RetCode: 0 Status: OK