Package: SPEM Version: 1.46.0 Command: /Library/Frameworks/R.framework/Resources/bin/R CMD build --keep-empty-dirs --no-resave-data SPEM StartedAt: 2025-02-03 22:35:31 -0500 (Mon, 03 Feb 2025) EndedAt: 2025-02-03 22:35:54 -0500 (Mon, 03 Feb 2025) EllapsedTime: 23.1 seconds RetCode: 0 Status: OK PackageFile: SPEM_1.46.0.tar.gz PackageFileSize: 601 KiB