Package: SPEM Version: 1.46.0 Command: /home/biocbuild/bbs-3.20-bioc/R/bin/R CMD check --install=check:SPEM.install-out.txt --library=/home/biocbuild/bbs-3.20-bioc/R/site-library --timings SPEM_1.46.0.tar.gz StartedAt: 2025-02-04 02:47:27 -0500 (Tue, 04 Feb 2025) EndedAt: 2025-02-04 02:48:08 -0500 (Tue, 04 Feb 2025) EllapsedTime: 40.1 seconds RetCode: 0 Status: OK CheckDir: SPEM.Rcheck Warnings: 0