Package: SPEM Version: 1.46.0 Command: rm -rf SPEM.buildbin-libdir && mkdir SPEM.buildbin-libdir && F:\biocbuild\bbs-3.20-bioc\R\bin\R.exe CMD INSTALL --build --library=SPEM.buildbin-libdir SPEM_1.46.0.tar.gz StartedAt: 2025-02-04 09:35:34 -0500 (Tue, 04 Feb 2025) EndedAt: 2025-02-04 09:35:46 -0500 (Tue, 04 Feb 2025) EllapsedTime: 12.6 seconds RetCode: 0 Status: OK PackageFile: SPEM_1.46.0.zip PackageFileSize: 369.4 KiB