Package: SPEM Version: 1.46.0 Command: F:\biocbuild\bbs-3.20-bioc\R\bin\R.exe CMD INSTALL SPEM StartedAt: 2025-02-03 15:39:47 -0500 (Mon, 03 Feb 2025) EndedAt: 2025-02-03 15:39:55 -0500 (Mon, 03 Feb 2025) EllapsedTime: 8.6 seconds RetCode: 0 Status: OK