Package: SPEM Version: 1.46.0 Command: /home/biocbuild/R/R/bin/R CMD build --keep-empty-dirs --no-resave-data SPEM StartedAt: 2025-02-04 03:14:27 -0000 (Tue, 04 Feb 2025) EndedAt: 2025-02-04 03:14:38 -0000 (Tue, 04 Feb 2025) EllapsedTime: 11.0 seconds RetCode: 0 Status: OK PackageFile: SPEM_1.46.0.tar.gz PackageFileSize: 587.4 KiB