Package: SPEM Version: 1.46.0 Command: /home/biocbuild/R/R/bin/R CMD check --install=check:SPEM.install-out.txt --library=/home/biocbuild/R/R/site-library --no-vignettes --timings SPEM_1.46.0.tar.gz StartedAt: 2025-02-04 11:20:22 -0000 (Tue, 04 Feb 2025) EndedAt: 2025-02-04 11:21:14 -0000 (Tue, 04 Feb 2025) EllapsedTime: 52.1 seconds RetCode: 0 Status: OK CheckDir: SPEM.Rcheck Warnings: 0