Package: SPIAT Version: 1.8.0 Command: /Library/Frameworks/R.framework/Resources/bin/R CMD check --install=check:SPIAT.install-out.txt --library=/Library/Frameworks/R.framework/Resources/library --no-vignettes --timings SPIAT_1.8.0.tar.gz StartedAt: 2025-01-31 10:32:22 -0500 (Fri, 31 Jan 2025) EndedAt: 2025-01-31 10:43:31 -0500 (Fri, 31 Jan 2025) EllapsedTime: 669.9 seconds RetCode: 0 Status: OK CheckDir: SPIAT.Rcheck Warnings: 0