Package: SPIAT Version: 1.8.0 Command: chmod a+r SPIAT -R && F:\biocbuild\bbs-3.20-bioc\R\bin\R.exe CMD build --keep-empty-dirs --no-resave-data SPIAT StartedAt: 2025-02-03 22:21:21 -0500 (Mon, 03 Feb 2025) EndedAt: 2025-02-03 22:25:25 -0500 (Mon, 03 Feb 2025) EllapsedTime: 243.3 seconds RetCode: 0 Status: OK PackageFile: SPIAT_1.8.0.tar.gz PackageFileSize: 4.475 MiB