Package: SPLINTER Version: 1.32.0 Command: /Library/Frameworks/R.framework/Resources/bin/R CMD build --keep-empty-dirs --no-resave-data SPLINTER StartedAt: 2025-02-04 09:03:39 -0500 (Tue, 04 Feb 2025) EndedAt: 2025-02-04 09:05:36 -0500 (Tue, 04 Feb 2025) EllapsedTime: 117.1 seconds RetCode: 1 Status: ERROR PackageFile: None PackageFileSize: NA