Package: SPLINTER Version: 1.32.0 Command: /Library/Frameworks/R.framework/Resources/bin/R CMD check --install=check:SPLINTER.install-out.txt --library=/Library/Frameworks/R.framework/Resources/library --no-vignettes --timings SPLINTER_1.32.0.tar.gz StartedAt: 2025-02-04 10:41:56 -0500 (Tue, 04 Feb 2025) EndedAt: 2025-02-04 10:53:16 -0500 (Tue, 04 Feb 2025) EllapsedTime: 679.9 seconds RetCode: 0 Status: OK CheckDir: SPLINTER.Rcheck Warnings: 0