Package: SPLINTER Version: 1.32.0 Command: /home/biocbuild/bbs-3.20-bioc/R/bin/R CMD build --keep-empty-dirs --no-resave-data --md5 SPLINTER StartedAt: 2025-01-30 19:18:50 -0500 (Thu, 30 Jan 2025) EndedAt: 2025-01-30 19:20:19 -0500 (Thu, 30 Jan 2025) EllapsedTime: 89.1 seconds RetCode: 0 Status: OK PackageFile: SPLINTER_1.32.0.tar.gz PackageFileSize: 962.4 KiB