Package: SPLINTER Version: 1.32.0 Command: rm -rf SPLINTER.buildbin-libdir && mkdir SPLINTER.buildbin-libdir && F:\biocbuild\bbs-3.20-bioc\R\bin\R.exe CMD INSTALL --build --library=SPLINTER.buildbin-libdir SPLINTER_1.32.0.tar.gz StartedAt: 2025-02-04 09:36:12 -0500 (Tue, 04 Feb 2025) EndedAt: 2025-02-04 09:37:21 -0500 (Tue, 04 Feb 2025) EllapsedTime: 69.0 seconds RetCode: 0 Status: OK PackageFile: SPLINTER_1.32.0.zip PackageFileSize: 1.082 MiB