Package: SPLINTER Version: 1.32.0 Command: /home/biocbuild/R/R/bin/R CMD INSTALL SPLINTER StartedAt: 2025-02-03 20:59:46 -0000 (Mon, 03 Feb 2025) EndedAt: 2025-02-03 21:00:47 -0000 (Mon, 03 Feb 2025) EllapsedTime: 61.1 seconds RetCode: 0 Status: OK