Package: SPONGE Version: 1.28.0 Command: rm -rf SPONGE.buildbin-libdir && mkdir SPONGE.buildbin-libdir && /Users/biocbuild/BBS/utils/build-universal.sh SPONGE_1.28.0.tar.gz /Library/Frameworks/R.framework/Resources/bin/R SPONGE.buildbin-libdir StartedAt: 2025-02-05 17:58:23 -0500 (Wed, 05 Feb 2025) EndedAt: 2025-02-05 18:00:21 -0500 (Wed, 05 Feb 2025) EllapsedTime: 118.5 seconds RetCode: 0 Status: OK PackageFile: SPONGE_1.28.0.tgz PackageFileSize: 8.727 MiB