Package: SPONGE Version: 1.28.0 Command: /Library/Frameworks/R.framework/Resources/bin/R CMD check --install=check:SPONGE.install-out.txt --library=/Library/Frameworks/R.framework/Resources/library --no-vignettes --timings SPONGE_1.28.0.tar.gz StartedAt: 2025-02-04 10:42:16 -0500 (Tue, 04 Feb 2025) EndedAt: 2025-02-04 10:54:04 -0500 (Tue, 04 Feb 2025) EllapsedTime: 707.5 seconds RetCode: 0 Status: WARNINGS CheckDir: SPONGE.Rcheck Warnings: 5