Package: SPONGE Version: 1.28.0 Command: F:\biocbuild\bbs-3.20-bioc\R\bin\R.exe CMD INSTALL SPONGE StartedAt: 2025-02-10 17:07:26 -0500 (Mon, 10 Feb 2025) EndedAt: 2025-02-10 17:09:02 -0500 (Mon, 10 Feb 2025) EllapsedTime: 95.7 seconds RetCode: 0 Status: OK