Package: SPONGE Version: 1.28.0 Command: /home/biocbuild/R/R/bin/R CMD check --install=check:SPONGE.install-out.txt --library=/home/biocbuild/R/R/site-library --no-vignettes --timings SPONGE_1.28.0.tar.gz StartedAt: 2025-01-31 10:43:03 -0000 (Fri, 31 Jan 2025) EndedAt: 2025-01-31 10:49:50 -0000 (Fri, 31 Jan 2025) EllapsedTime: 406.4 seconds RetCode: 0 Status: WARNINGS CheckDir: SPONGE.Rcheck Warnings: 5