Package: SPsimSeq Version: 1.16.0 Command: /Library/Frameworks/R.framework/Resources/bin/R CMD build --keep-empty-dirs --no-resave-data SPsimSeq StartedAt: 2025-02-04 09:09:25 -0500 (Tue, 04 Feb 2025) EndedAt: 2025-02-04 09:13:19 -0500 (Tue, 04 Feb 2025) EllapsedTime: 233.8 seconds RetCode: 0 Status: OK PackageFile: SPsimSeq_1.16.0.tar.gz PackageFileSize: 774 KiB