Package: SPsimSeq Version: 1.16.0 Command: /Library/Frameworks/R.framework/Resources/bin/R CMD check --install=check:SPsimSeq.install-out.txt --library=/Library/Frameworks/R.framework/Resources/library --no-vignettes --timings SPsimSeq_1.16.0.tar.gz StartedAt: 2025-02-05 11:42:03 -0500 (Wed, 05 Feb 2025) EndedAt: 2025-02-05 11:49:18 -0500 (Wed, 05 Feb 2025) EllapsedTime: 435.5 seconds RetCode: 0 Status: OK CheckDir: SPsimSeq.Rcheck Warnings: 0