Package: SPsimSeq Version: 1.16.0 Command: /Library/Frameworks/R.framework/Resources/bin/R CMD INSTALL SPsimSeq StartedAt: 2024-11-08 15:41:40 -0500 (Fri, 08 Nov 2024) EndedAt: 2024-11-08 15:41:53 -0500 (Fri, 08 Nov 2024) EllapsedTime: 12.8 seconds RetCode: 0 Status: OK