Package: SPsimSeq Version: 1.16.0 Command: rm -rf SPsimSeq.buildbin-libdir && mkdir SPsimSeq.buildbin-libdir && /Users/biocbuild/BBS/utils/build-universal.sh SPsimSeq_1.16.0.tar.gz /Library/Frameworks/R.framework/Resources/bin/R SPsimSeq.buildbin-libdir StartedAt: 2025-01-31 13:47:23 -0500 (Fri, 31 Jan 2025) EndedAt: 2025-01-31 13:48:42 -0500 (Fri, 31 Jan 2025) EllapsedTime: 78.3 seconds RetCode: 0 Status: OK PackageFile: SPsimSeq_1.16.0.tgz PackageFileSize: 949 KiB