Package: SPsimSeq Version: 1.16.0 Command: /Library/Frameworks/R.framework/Resources/bin/R CMD build --keep-empty-dirs --no-resave-data SPsimSeq StartedAt: 2025-02-03 22:38:50 -0500 (Mon, 03 Feb 2025) EndedAt: 2025-02-03 22:49:00 -0500 (Mon, 03 Feb 2025) EllapsedTime: 610.1 seconds RetCode: 0 Status: OK PackageFile: SPsimSeq_1.16.0.tar.gz PackageFileSize: 773.2 KiB