Package: SPsimSeq Version: 1.16.0 Command: rm -rf SPsimSeq.buildbin-libdir && mkdir SPsimSeq.buildbin-libdir && F:\biocbuild\bbs-3.20-bioc\R\bin\R.exe CMD INSTALL --build --library=SPsimSeq.buildbin-libdir SPsimSeq_1.16.0.tar.gz StartedAt: 2025-02-04 09:36:35 -0500 (Tue, 04 Feb 2025) EndedAt: 2025-02-04 09:37:24 -0500 (Tue, 04 Feb 2025) EllapsedTime: 48.8 seconds RetCode: 0 Status: OK PackageFile: SPsimSeq_1.16.0.zip PackageFileSize: 751.3 KiB