Package: SPsimSeq Version: 1.16.0 Command: /home/biocbuild/R/R/bin/R CMD build --keep-empty-dirs --no-resave-data SPsimSeq StartedAt: 2025-02-11 02:52:28 -0000 (Tue, 11 Feb 2025) EndedAt: 2025-02-11 02:59:15 -0000 (Tue, 11 Feb 2025) EllapsedTime: 407.2 seconds RetCode: 0 Status: OK PackageFile: SPsimSeq_1.16.0.tar.gz PackageFileSize: 616.5 KiB