Package: SPsimSeq Version: 1.16.0 Command: /home/biocbuild/bbs-3.20-bioc/R/bin/R CMD check --install=check:SPsimSeq.install-out.txt --library=/home/biocbuild/bbs-3.20-bioc/R/site-library --timings SPsimSeq_1.16.0.tar.gz StartedAt: 2024-11-20 10:16:27 -0500 (Wed, 20 Nov 2024) EndedAt: 2024-11-20 10:23:37 -0500 (Wed, 20 Nov 2024) EllapsedTime: 430.4 seconds RetCode: 0 Status: OK CheckDir: SPsimSeq.Rcheck Warnings: 0