Package: SQLDataFrame Version: 1.20.0 Command: /Library/Frameworks/R.framework/Resources/bin/R CMD check --install=check:SQLDataFrame.install-out.txt --library=/Library/Frameworks/R.framework/Resources/library --no-vignettes --timings SQLDataFrame_1.20.0.tar.gz StartedAt: 2025-02-04 10:46:20 -0500 (Tue, 04 Feb 2025) EndedAt: 2025-02-04 10:51:30 -0500 (Tue, 04 Feb 2025) EllapsedTime: 310.3 seconds RetCode: 0 Status: WARNINGS CheckDir: SQLDataFrame.Rcheck Warnings: 2