Package: SQLDataFrame Version: 1.20.0 Command: /Library/Frameworks/R.framework/Resources/bin/R CMD INSTALL SQLDataFrame StartedAt: 2025-02-10 15:23:12 -0500 (Mon, 10 Feb 2025) EndedAt: 2025-02-10 15:23:52 -0500 (Mon, 10 Feb 2025) EllapsedTime: 39.5 seconds RetCode: 0 Status: OK