Package: SQLDataFrame Version: 1.20.0 Command: /home/biocbuild/bbs-3.20-bioc/R/bin/R CMD check --install=check:SQLDataFrame.install-out.txt --library=/home/biocbuild/bbs-3.20-bioc/R/site-library --timings SQLDataFrame_1.20.0.tar.gz StartedAt: 2025-02-04 02:54:01 -0500 (Tue, 04 Feb 2025) EndedAt: 2025-02-04 02:56:28 -0500 (Tue, 04 Feb 2025) EllapsedTime: 147.1 seconds RetCode: 0 Status: WARNINGS CheckDir: SQLDataFrame.Rcheck Warnings: 2