Package: SQLDataFrame Version: 1.20.0 Command: rm -rf SQLDataFrame.buildbin-libdir && mkdir SQLDataFrame.buildbin-libdir && F:\biocbuild\bbs-3.20-bioc\R\bin\R.exe CMD INSTALL --build --library=SQLDataFrame.buildbin-libdir SQLDataFrame_1.20.0.tar.gz StartedAt: 2025-02-04 09:36:36 -0500 (Tue, 04 Feb 2025) EndedAt: 2025-02-04 09:37:13 -0500 (Tue, 04 Feb 2025) EllapsedTime: 36.8 seconds RetCode: 0 Status: OK PackageFile: SQLDataFrame_1.20.0.zip PackageFileSize: 581.5 KiB