Package: SQLDataFrame Version: 1.20.0 Command: /home/biocbuild/R/R/bin/R CMD INSTALL SQLDataFrame StartedAt: 2025-02-03 20:34:57 -0000 (Mon, 03 Feb 2025) EndedAt: 2025-02-03 20:35:19 -0000 (Mon, 03 Feb 2025) EllapsedTime: 21.4 seconds RetCode: 0 Status: OK