Package: SRAdb Version: 1.68.1 Command: /Library/Frameworks/R.framework/Resources/bin/R CMD build --keep-empty-dirs --no-resave-data SRAdb StartedAt: 2025-02-04 09:10:27 -0500 (Tue, 04 Feb 2025) EndedAt: 2025-02-04 09:10:44 -0500 (Tue, 04 Feb 2025) EllapsedTime: 17.1 seconds RetCode: 0 Status: OK PackageFile: SRAdb_1.68.1.tar.gz PackageFileSize: 889.7 KiB