Package: SRAdb Version: 1.68.1 Command: /Library/Frameworks/R.framework/Resources/bin/R CMD check --install=check:SRAdb.install-out.txt --library=/Library/Frameworks/R.framework/Resources/library --no-vignettes --timings SRAdb_1.68.1.tar.gz StartedAt: 2025-02-05 11:46:33 -0500 (Wed, 05 Feb 2025) EndedAt: 2025-02-05 11:47:16 -0500 (Wed, 05 Feb 2025) EllapsedTime: 43.6 seconds RetCode: 0 Status: OK CheckDir: SRAdb.Rcheck Warnings: 0