Package: SRAdb Version: 1.68.1 Command: /Library/Frameworks/R.framework/Resources/bin/R CMD build --keep-empty-dirs --no-resave-data SRAdb StartedAt: 2025-02-03 22:40:40 -0500 (Mon, 03 Feb 2025) EndedAt: 2025-02-03 22:41:06 -0500 (Mon, 03 Feb 2025) EllapsedTime: 26.3 seconds RetCode: 0 Status: OK PackageFile: SRAdb_1.68.1.tar.gz PackageFileSize: 889.9 KiB