Package: SRAdb Version: 1.68.1 Command: /home/biocbuild/bbs-3.20-bioc/R/bin/R CMD build --keep-empty-dirs --no-resave-data --md5 SRAdb StartedAt: 2025-01-30 19:20:55 -0500 (Thu, 30 Jan 2025) EndedAt: 2025-01-30 19:21:05 -0500 (Thu, 30 Jan 2025) EllapsedTime: 10.0 seconds RetCode: 0 Status: OK PackageFile: SRAdb_1.68.1.tar.gz PackageFileSize: 891.2 KiB