Package: SRAdb Version: 1.68.1 Command: /home/biocbuild/bbs-3.20-bioc/R/bin/R CMD check --install=check:SRAdb.install-out.txt --library=/home/biocbuild/bbs-3.20-bioc/R/site-library --timings SRAdb_1.68.1.tar.gz StartedAt: 2025-01-31 02:44:02 -0500 (Fri, 31 Jan 2025) EndedAt: 2025-01-31 02:44:34 -0500 (Fri, 31 Jan 2025) EllapsedTime: 32.0 seconds RetCode: 0 Status: OK CheckDir: SRAdb.Rcheck Warnings: 0