Package: SRAdb Version: 1.68.1 Command: rm -rf SRAdb.buildbin-libdir && mkdir SRAdb.buildbin-libdir && F:\biocbuild\bbs-3.20-bioc\R\bin\R.exe CMD INSTALL --build --library=SRAdb.buildbin-libdir SRAdb_1.68.1.tar.gz StartedAt: 2025-01-31 09:43:28 -0500 (Fri, 31 Jan 2025) EndedAt: 2025-01-31 09:43:39 -0500 (Fri, 31 Jan 2025) EllapsedTime: 11.2 seconds RetCode: 0 Status: OK PackageFile: SRAdb_1.68.1.zip PackageFileSize: 718.1 KiB