Package: SRAdb Version: 1.68.1 Command: /home/biocbuild/R/R/bin/R CMD build --keep-empty-dirs --no-resave-data SRAdb StartedAt: 2025-02-04 03:18:40 -0000 (Tue, 04 Feb 2025) EndedAt: 2025-02-04 03:18:56 -0000 (Tue, 04 Feb 2025) EllapsedTime: 16.0 seconds RetCode: 0 Status: OK PackageFile: SRAdb_1.68.1.tar.gz PackageFileSize: 881.1 KiB