Package: SRAdb Version: 1.68.1 Command: /home/biocbuild/R/R/bin/R CMD check --install=check:SRAdb.install-out.txt --library=/home/biocbuild/R/R/site-library --no-vignettes --timings SRAdb_1.68.1.tar.gz StartedAt: 2025-01-31 10:45:28 -0000 (Fri, 31 Jan 2025) EndedAt: 2025-01-31 10:46:00 -0000 (Fri, 31 Jan 2025) EllapsedTime: 32.0 seconds RetCode: 0 Status: OK CheckDir: SRAdb.Rcheck Warnings: 0