Package: STATegRa Version: 1.42.0 Command: /Library/Frameworks/R.framework/Resources/bin/R CMD build --keep-empty-dirs --no-resave-data STATegRa StartedAt: 2025-02-11 09:08:32 -0500 (Tue, 11 Feb 2025) EndedAt: 2025-02-11 09:11:03 -0500 (Tue, 11 Feb 2025) EllapsedTime: 150.9 seconds RetCode: 0 Status: OK PackageFile: STATegRa_1.42.0.tar.gz PackageFileSize: 5.176 MiB