Package: STATegRa Version: 1.42.0 Command: /Library/Frameworks/R.framework/Resources/bin/R CMD check --install=check:STATegRa.install-out.txt --library=/Library/Frameworks/R.framework/Resources/library --no-vignettes --timings STATegRa_1.42.0.tar.gz StartedAt: 2025-02-12 11:11:23 -0500 (Wed, 12 Feb 2025) EndedAt: 2025-02-12 11:15:17 -0500 (Wed, 12 Feb 2025) EllapsedTime: 233.8 seconds RetCode: 0 Status: OK CheckDir: STATegRa.Rcheck Warnings: 0