Package: STATegRa Version: 1.42.0 Command: /home/biocbuild/bbs-3.20-bioc/R/bin/R CMD build --keep-empty-dirs --no-resave-data --md5 STATegRa StartedAt: 2025-02-03 19:31:36 -0500 (Mon, 03 Feb 2025) EndedAt: 2025-02-03 19:33:23 -0500 (Mon, 03 Feb 2025) EllapsedTime: 106.1 seconds RetCode: 0 Status: OK PackageFile: STATegRa_1.42.0.tar.gz PackageFileSize: 4.946 MiB