Package: STATegRa Version: 1.42.0 Command: /home/biocbuild/bbs-3.20-bioc/R/bin/R CMD INSTALL STATegRa StartedAt: 2025-02-10 15:21:09 -0500 (Mon, 10 Feb 2025) EndedAt: 2025-02-10 15:21:21 -0500 (Mon, 10 Feb 2025) EllapsedTime: 12.1 seconds RetCode: 0 Status: OK