Package: STATegRa Version: 1.42.0 Command: /home/biocbuild/R/R/bin/R CMD check --install=check:STATegRa.install-out.txt --library=/home/biocbuild/R/R/site-library --no-vignettes --timings STATegRa_1.42.0.tar.gz StartedAt: 2025-02-04 11:28:15 -0000 (Tue, 04 Feb 2025) EndedAt: 2025-02-04 11:32:25 -0000 (Tue, 04 Feb 2025) EllapsedTime: 250.3 seconds RetCode: 0 Status: OK CheckDir: STATegRa.Rcheck Warnings: 0