Package: STRINGdb Version: 2.18.0 Command: /Library/Frameworks/R.framework/Resources/bin/R CMD build --keep-empty-dirs --no-resave-data STRINGdb StartedAt: 2025-02-04 09:17:53 -0500 (Tue, 04 Feb 2025) EndedAt: 2025-02-04 09:21:40 -0500 (Tue, 04 Feb 2025) EllapsedTime: 227.5 seconds RetCode: 0 Status: OK PackageFile: STRINGdb_2.18.0.tar.gz PackageFileSize: 9.948 MiB