Package: STRINGdb Version: 2.18.0 Command: /Library/Frameworks/R.framework/Resources/bin/R CMD build --keep-empty-dirs --no-resave-data STRINGdb StartedAt: 2025-02-03 22:43:20 -0500 (Mon, 03 Feb 2025) EndedAt: 2025-02-03 22:48:07 -0500 (Mon, 03 Feb 2025) EllapsedTime: 286.7 seconds RetCode: 0 Status: OK PackageFile: STRINGdb_2.18.0.tar.gz PackageFileSize: 9.949 MiB