Package: STRINGdb Version: 2.18.0 Command: /Library/Frameworks/R.framework/Resources/bin/R CMD check --install=check:STRINGdb.install-out.txt --library=/Library/Frameworks/R.framework/Resources/library --no-vignettes --timings STRINGdb_2.18.0.tar.gz StartedAt: 2025-02-04 10:55:26 -0500 (Tue, 04 Feb 2025) EndedAt: 2025-02-04 11:02:55 -0500 (Tue, 04 Feb 2025) EllapsedTime: 449.0 seconds RetCode: 0 Status: OK CheckDir: STRINGdb.Rcheck Warnings: 0